BEGIN:VCALENDAR
VERSION:2.0
PRODID:-//ddaysoftware.com//NONSGML DDay.iCal 1.0//EN
BEGIN:VTIMEZONE
TZID:W. Europe Standard Time
BEGIN:STANDARD
DTSTART:20251002T030000
RRULE:FREQ=YEARLY;BYDAY=-1SU;BYHOUR=3;BYMINUTE=0;BYMONTH=10
TZNAME:W. Europe Standard Time
TZOFFSETFROM:+0200
TZOFFSETTO:+0100
END:STANDARD
BEGIN:DAYLIGHT
DTSTART:20250301T020000
RRULE:FREQ=YEARLY;BYDAY=-1SU;BYHOUR=2;BYMINUTE=0;BYMONTH=3
TZNAME:W. Europe Daylight Time
TZOFFSETFROM:+0100
TZOFFSETTO:+0200
END:DAYLIGHT
END:VTIMEZONE
BEGIN:VEVENT
CATEGORIES:Vortrag
DESCRIPTION:Wenn Musik die Herzen vereint\, wirkt eine unsichtbare Kraft...
 \n\nVeranstalter: Kath. Deutscher Frauenbund\n\nhttps://www.boehmfeld.eu/a
 ktuelles/veranstaltungen/mit-herz-und-klang-konzert-zum-misereor-sonntag/
DTEND:20260322T180000
DTSTAMP:20260421T183247Z
DTSTART:20260322T170000
LOCATION:Kirche St. Bonifatius: 85113 Böhmfeld
SEQUENCE:0
SUMMARY:Mit Herz und Klang – Konzert zum „Misereor-Sonntag“
UID:16217
URL:https://www.boehmfeld.eu/aktuelles/veranstaltungen/mit-herz-und-klang-k
 onzert-zum-misereor-sonntag/
END:VEVENT
END:VCALENDAR
